BEGIN:VCALENDAR
VERSION:2.0
PRODID:-//Cooltura Kolín//Events//CS
CALSCALE:GREGORIAN
METHOD:PUBLISH
BEGIN:VEVENT
DTSTART:20260516T170000Z
DTEND:20260516T200000Z
SUMMARY:LIVE BRAZILSKÁ HUDBA U NÁS
DESCRIPTION:Přijď nasát energii pravé Brazílie. 🇧🇷\nUžij si večer plný rytmů samba, forró i známých světových hitů v podání charismatického Devanila dos Santose – hudebníka, který přináší slunce a vášeň přímo na pódium.\n\n🎶 Vystupoval na festivalech po celé ČR i v zahraničí a teď dorazí k nám!\n\n📅 16. 5.2026\n⏰ 19:00 – 21:30\n\nTěš se na atmosféru, která tě zvedne ze židle 🍹💃\nDoporučujeme rezervaci, těšíme se na Vás 😍\n
LOCATION:Cooltura Kolín, Zámecká 109, Kolín
URL:https://www.coolturakolin.cz/akce/brazilska_hudba
END:VEVENT
END:VCALENDAR